BEGIN:VCALENDAR
VERSION:2.0
PRODID:-//Speed Skating Nova Scotia - ECPv6.10.1//NONSGML v1.0//EN
CALSCALE:GREGORIAN
METHOD:PUBLISH
X-WR-CALNAME:Speed Skating Nova Scotia
X-ORIGINAL-URL:https://speedskatingns.ca
X-WR-CALDESC:Events for Speed Skating Nova Scotia
REFRESH-INTERVAL;VALUE=DURATION:PT1H
X-Robots-Tag:noindex
X-PUBLISHED-TTL:PT1H
BEGIN:VTIMEZONE
TZID:America/Halifax
BEGIN:DAYLIGHT
TZOFFSETFROM:-0400
TZOFFSETTO:-0300
TZNAME:ADT
DTSTART:20260308T060000
END:DAYLIGHT
BEGIN:STANDARD
TZOFFSETFROM:-0300
TZOFFSETTO:-0400
TZNAME:AST
DTSTART:20261101T050000
END:STANDARD
END:VTIMEZONE
BEGIN:VEVENT
DTSTART;TZID=America/Halifax:20260124T070000
DTEND;TZID=America/Halifax:20260125T130000
DTSTAMP:20260422T142841
CREATED:20251224T173330Z
LAST-MODIFIED:20260112T234325Z
UID:1420-1769238000-1769346000@speedskatingns.ca
SUMMARY:2026 NS Long Track Championships
DESCRIPTION:This event is for all skaters in eastern Canada. \nYouth (7-10) Mass-Start: $35.00 perskater\nYouth (11-13) Hybrid Mass Start/Olympic Style $65.00 per skater\nNeo-Junior (14-15)\, Junior (16-18) Olympic Style Allround $65.00 per skater\nSenior (19-29)\, Masters (30+) Olympic Style Allround $65.00 per skater \nRegister now!
URL:https://speedskatingns.ca/event/2026-ns-long-track-championships/
LOCATION:Halifax Oval
CATEGORIES:Extra Regional,Long Track
END:VEVENT
END:VCALENDAR