BEGIN:VCALENDAR
VERSION:2.0
PRODID:-//Speed Skating Nova Scotia - ECPv6.10.1//NONSGML v1.0//EN
CALSCALE:GREGORIAN
METHOD:PUBLISH
X-WR-CALNAME:Speed Skating Nova Scotia
X-ORIGINAL-URL:https://speedskatingns.ca
X-WR-CALDESC:Events for Speed Skating Nova Scotia
REFRESH-INTERVAL;VALUE=DURATION:PT1H
X-Robots-Tag:noindex
X-PUBLISHED-TTL:PT1H
BEGIN:VTIMEZONE
TZID:UTC
BEGIN:STANDARD
TZOFFSETFROM:+0000
TZOFFSETTO:+0000
TZNAME:UTC
DTSTART:20250101T000000
END:STANDARD
END:VTIMEZONE
BEGIN:VEVENT
DTSTART;TZID=UTC:20260320T080000
DTEND;TZID=UTC:20260322T170000
DTSTAMP:20260423T113358
CREATED:20260112T020629Z
LAST-MODIFIED:20260314T214644Z
UID:1452-1773993600-1774198800@speedskatingns.ca
SUMMARY:2026 Canadian Youth Short Track Championships – East
DESCRIPTION:Date: March 20 (camp day ) & March 21-22 (competition days) \nHost Club : Dartmouth Crossing Speed Skating Club \nHost Province: SSNS /National Host: SSC \nEvent Page: SSC EVENT PAGE (Full details to be posted at this location) \nThe 2026 Canada Youth Short Track Championships presented by Intact Insurance will feature skaters aged 11 to 13 and serves as an opportunity for developing skaters to represent their province or territory on the national stage. This event provides meaningful and developmentally appropriate racing opportunities\, while also focusing on the holistic development of the athletes\, touching on the physical\, cognitive\, mental and social aspects of skating. \nWe will welcome competitors\, coaches & families from Nunavut\, Nova Scotia\, Prince Edward Island\, Newfoundland & Labrador\, New Brunswick\, Quebec\, & Ontario \n \nGold Sponsors\n \nBronze Sponsors\n        \n \nAccommodations\n  \n 
URL:https://speedskatingns.ca/event/2026-canadian-youth-short-track-championships-east/
LOCATION:RBC Centre\, Dartmouth
CATEGORIES:National,Short Track
ORGANIZER;CN="Host Province%3A SSNS / National Host%3A SSC":MAILTO:info@speedskatingns.ca
END:VEVENT
BEGIN:VEVENT
DTSTART;VALUE=DATE:20250328
DTEND;VALUE=DATE:20250331
DTSTAMP:20260423T113358
CREATED:20250109T220843Z
LAST-MODIFIED:20250109T220843Z
UID:1369-1743120000-1743379199@speedskatingns.ca
SUMMARY:Canadian Youth Short Track Championships (West)
DESCRIPTION:
URL:https://speedskatingns.ca/event/canadian-youth-short-track-championships-west/
LOCATION:Kamloops\, Kamloops\, British Columbia
CATEGORIES:National,Short Track
END:VEVENT
BEGIN:VEVENT
DTSTART;VALUE=DATE:20250328
DTEND;VALUE=DATE:20250331
DTSTAMP:20260423T113358
CREATED:20250109T220758Z
LAST-MODIFIED:20250109T220758Z
UID:1367-1743120000-1743379199@speedskatingns.ca
SUMMARY:Short Track Canada Cup Junior Final
DESCRIPTION:
URL:https://speedskatingns.ca/event/short-track-canada-cup-junior-final/
LOCATION:Newmarket\, Ontario
CATEGORIES:National,Short Track
END:VEVENT
BEGIN:VEVENT
DTSTART;VALUE=DATE:20250321
DTEND;VALUE=DATE:20250324
DTSTAMP:20260423T113358
CREATED:20250109T220731Z
LAST-MODIFIED:20250109T220731Z
UID:1365-1742515200-1742774399@speedskatingns.ca
SUMMARY:Canadian Short Track Championships (East)
DESCRIPTION:
URL:https://speedskatingns.ca/event/canadian-short-track-championships-east/
LOCATION:Dieppe\, NB
CATEGORIES:National,Short Track
END:VEVENT
BEGIN:VEVENT
DTSTART;VALUE=DATE:20250314
DTEND;VALUE=DATE:20250317
DTSTAMP:20260423T113358
CREATED:20250109T220657Z
LAST-MODIFIED:20250109T220657Z
UID:1363-1741910400-1742169599@speedskatingns.ca
SUMMARY:Short Track Canada Cup Final
DESCRIPTION:
URL:https://speedskatingns.ca/event/short-track-canada-cup-final/
LOCATION:Calgary\, Alberta
CATEGORIES:National,Short Track
END:VEVENT
BEGIN:VEVENT
DTSTART;VALUE=DATE:20250227
DTEND;VALUE=DATE:20250303
DTSTAMP:20260423T113358
CREATED:20250109T220631Z
LAST-MODIFIED:20250109T220631Z
UID:1361-1740614400-1740959999@speedskatingns.ca
SUMMARY:Long Track Canada Cup Final
DESCRIPTION:
URL:https://speedskatingns.ca/event/long-track-canada-cup-final/
LOCATION:Quebec City\, Quebec
CATEGORIES:Long Track,National
END:VEVENT
BEGIN:VEVENT
DTSTART;VALUE=DATE:20250221
DTEND;VALUE=DATE:20250224
DTSTAMP:20260423T113358
CREATED:20250109T220534Z
LAST-MODIFIED:20250109T220534Z
UID:1357-1740096000-1740355199@speedskatingns.ca
SUMMARY:ISU Short Track Junior World Cup
DESCRIPTION:
URL:https://speedskatingns.ca/event/isu-short-track-junior-world-cup/
LOCATION:Quebec City\, Quebec
CATEGORIES:National,Short Track
END:VEVENT
BEGIN:VEVENT
DTSTART;VALUE=DATE:20250207
DTEND;VALUE=DATE:20250210
DTSTAMP:20260423T113358
CREATED:20250109T220457Z
LAST-MODIFIED:20250109T220457Z
UID:1354-1738886400-1739145599@speedskatingns.ca
SUMMARY:Canadian Youth Long Track Championships
DESCRIPTION:
URL:https://speedskatingns.ca/event/canadian-youth-long-track-championships/
LOCATION:Fort St. John\, Fort St. John\, British Columbia
CATEGORIES:Long Track,National
END:VEVENT
BEGIN:VEVENT
DTSTART;VALUE=DATE:20250127
DTEND;VALUE=DATE:20250203
DTSTAMP:20260423T113358
CREATED:20250109T220607Z
LAST-MODIFIED:20250109T220607Z
UID:1359-1737936000-1738540799@speedskatingns.ca
SUMMARY:ISU World Junior Short Track Championships
DESCRIPTION:
URL:https://speedskatingns.ca/event/isu-world-junior-short-track-championships/
LOCATION:Calgary\, Alberta
CATEGORIES:National,Short Track
END:VEVENT
BEGIN:VEVENT
DTSTART;VALUE=DATE:20250124
DTEND;VALUE=DATE:20250127
DTSTAMP:20260423T113358
CREATED:20250109T220411Z
LAST-MODIFIED:20250109T220411Z
UID:1352-1737676800-1737935999@speedskatingns.ca
SUMMARY:ISU World Cup Speed Skating
DESCRIPTION:
URL:https://speedskatingns.ca/event/isu-world-cup-speed-skating/
LOCATION:Calgary\, Alberta
CATEGORIES:National
END:VEVENT
BEGIN:VEVENT
DTSTART;VALUE=DATE:20250124
DTEND;VALUE=DATE:20250127
DTSTAMP:20260423T113358
CREATED:20250109T220339Z
LAST-MODIFIED:20250109T220339Z
UID:1349-1737676800-1737935999@speedskatingns.ca
SUMMARY:Short Track Canada Cup (1)
DESCRIPTION:
URL:https://speedskatingns.ca/event/short-track-canada-cup-1/
LOCATION:Sherbrooke\, Sherbrooke\, Quebec
CATEGORIES:National,Short Track
END:VEVENT
BEGIN:VEVENT
DTSTART;VALUE=DATE:20250111
DTEND;VALUE=DATE:20250113
DTSTAMP:20260423T113358
CREATED:20250109T220253Z
LAST-MODIFIED:20250109T220253Z
UID:1346-1736553600-1736726399@speedskatingns.ca
SUMMARY:Junior Short Track Open
DESCRIPTION:
URL:https://speedskatingns.ca/event/junior-short-track-open/
LOCATION:Prince George\, Prince George\, British Columbia
CATEGORIES:National,Short Track
END:VEVENT
END:VCALENDAR