BEGIN:VCALENDAR
VERSION:2.0
PRODID:-//Speed Skating Nova Scotia - ECPv6.10.1//NONSGML v1.0//EN
CALSCALE:GREGORIAN
METHOD:PUBLISH
X-WR-CALNAME:Speed Skating Nova Scotia
X-ORIGINAL-URL:https://speedskatingns.ca
X-WR-CALDESC:Events for Speed Skating Nova Scotia
REFRESH-INTERVAL;VALUE=DURATION:PT1H
X-Robots-Tag:noindex
X-PUBLISHED-TTL:PT1H
BEGIN:VTIMEZONE
TZID:UTC
BEGIN:STANDARD
TZOFFSETFROM:+0000
TZOFFSETTO:+0000
TZNAME:UTC
DTSTART:20250101T000000
END:STANDARD
END:VTIMEZONE
BEGIN:VEVENT
DTSTART;TZID=UTC:20250222T070000
DTEND;TZID=UTC:20250222T130000
DTSTAMP:20260425T002009
CREATED:20250109T215608Z
LAST-MODIFIED:20250109T215608Z
UID:1338-1740207600-1740229200@speedskatingns.ca
SUMMARY:Speedy Kids Oval Meltdown
DESCRIPTION:
URL:https://speedskatingns.ca/event/speedy-kids-oval-meltdown/
LOCATION:Emera Oval\, 5775 Cogswell Street\, Halifax\, Nova Scotia
CATEGORIES:Long Track,Regional
END:VEVENT
BEGIN:VEVENT
DTSTART;TZID=UTC:20250223T130000
DTEND;TZID=UTC:20250223T160000
DTSTAMP:20260425T002010
CREATED:20250109T215721Z
LAST-MODIFIED:20250117T154415Z
UID:1340-1740315600-1740326400@speedskatingns.ca
SUMMARY:Mini Meet: Southwest Nova Speed Skating Club
DESCRIPTION:
URL:https://speedskatingns.ca/event/mini-meet-southwest-nova-speed-skating-club/
LOCATION:Digby Arena\, 27 Shreve Street\, Digby\, Nova Scotia
CATEGORIES:Regional,Short Track
END:VEVENT
END:VCALENDAR